BEGIN:VCALENDAR
VERSION:2.0
PRODID:-//hacksw/handcal//NONSGML v1.0//EN
BEGIN:VEVENT
DTSTAMP:20220323T180000Z
DTSTART:20220323T180000Z
DTEND:20220323T210000Z
SUMMARY:Parlamentarischer Abend: Handwerk Schleswig-Holstein e.V.
END:VEVENT
END:VCALENDAR
