BEGIN:VCALENDAR
VERSION:2.0
PRODID:-//hacksw/handcal//NONSGML v1.0//EN
BEGIN:VEVENT
DTSTAMP:20220320T130000Z
DTSTART:20220320T130000Z
DTEND:20220320T160000Z
SUMMARY:Boßel-Veranstaltung mit anschließendem Beisammensein in Gülzow
END:VEVENT
END:VCALENDAR
