BEGIN:VCALENDAR
VERSION:2.0
PRODID:-//hacksw/handcal//NONSGML v1.0//EN
BEGIN:VEVENT
DTSTAMP:20220315T183000Z
DTSTART:20220315T183000Z
DTEND:20220315T203000Z
SUMMARY:FördeForum: "Fachkräftemangel: Qualifizierte Mitarbeiter finden und binden"
END:VEVENT
END:VCALENDAR
