BEGIN:VCALENDAR
VERSION:2.0
PRODID:-//hacksw/handcal//NONSGML v1.0//EN
BEGIN:VEVENT
DTSTAMP:20220310T183000Z
DTSTART:20220310T183000Z
DTEND:20220310T210000Z
SUMMARY:Podiumsdiskussion: Wir geben Frauen eine Stimme - Soroptimist International
END:VEVENT
END:VCALENDAR
