BEGIN:VCALENDAR
VERSION:2.0
PRODID:-//hacksw/handcal//NONSGML v1.0//EN
BEGIN:VEVENT
DTSTAMP:20220322T180000Z
DTSTART:20220322T180000Z
DTEND:20220322T203000Z
SUMMARY:Frühlingsempfang CDU-Landtagsfraktion
END:VEVENT
END:VCALENDAR
