BEGIN:VCALENDAR
VERSION:2.0
PRODID:-//hacksw/handcal//NONSGML v1.0//EN
BEGIN:VEVENT
DTSTAMP:20220319T110000Z
DTSTART:20220319T110000Z
DTEND:20220319T140000Z
SUMMARY:Frühlingsempfang CDU Hzgt. Lbg. mit Ministerpräsident Günther (MdL)
END:VEVENT
END:VCALENDAR
