BEGIN:VCALENDAR
VERSION:2.0
PRODID:-//hacksw/handcal//NONSGML v1.0//EN
BEGIN:VEVENT
DTSTAMP:20220317T100000Z
DTSTART:20220317T100000Z
DTEND:20220317T123000Z
SUMMARY:Jamaika: Gemeinsamer Arbeitskreis Soziales
END:VEVENT
END:VCALENDAR
