BEGIN:VCALENDAR
VERSION:2.0
PRODID:-//hacksw/handcal//NONSGML v1.0//EN
BEGIN:VEVENT
DTSTAMP:20220325T090000Z
DTSTART:20220325T090000Z
DTEND:20220325T130000Z
SUMMARY:Plenartagung Schleswig-Holsteinischer Landtag
END:VEVENT
END:VCALENDAR
