BEGIN:VCALENDAR
VERSION:2.0
PRODID:-//hacksw/handcal//NONSGML v1.0//EN
BEGIN:VEVENT
DTSTAMP:20220323T230000Z
DTSTART:20220323T230000Z
DTEND:20220323T230000Z
SUMMARY:Plenartagung Schleswig-Holsteinischer Landtag
END:VEVENT
END:VCALENDAR
