BEGIN:VCALENDAR
VERSION:2.0
PRODID:-//hacksw/handcal//NONSGML v1.0//EN
BEGIN:VEVENT
DTSTAMP:20220305T090000Z
DTSTART:20220305T090000Z
DTEND:20220305T140000Z
SUMMARY:Landesvertreterversammlung der CDU Schleswig-Holstein
END:VEVENT
END:VCALENDAR
