BEGIN:VCALENDAR
VERSION:2.0
PRODID:-//hacksw/handcal//NONSGML v1.0//EN
BEGIN:VEVENT
DTSTAMP:20220331T080000Z
DTSTART:20220331T080000Z
DTEND:20220331T080000Z
LOCATION:Landeshaus Kiel, Deutschland
SUMMARY:Jamaika: Gemeinsamer Arbeitskreis KiTa
END:VEVENT
END:VCALENDAR
